BEGIN:VCALENDAR
VERSION:2.0
PRODID:-//Rockdale County Clerk of Superior and State Courts - ECPv6.15.20//NONSGML v1.0//EN
CALSCALE:GREGORIAN
METHOD:PUBLISH
X-ORIGINAL-URL:https://www.rockdaleclerk.com
X-WR-CALDESC:Events for Rockdale County Clerk of Superior and State Courts
REFRESH-INTERVAL;VALUE=DURATION:PT1H
X-Robots-Tag:noindex
X-PUBLISHED-TTL:PT1H
BEGIN:VTIMEZONE
TZID:America/New_York
BEGIN:DAYLIGHT
TZOFFSETFROM:-0500
TZOFFSETTO:-0400
TZNAME:EDT
DTSTART:20250309T070000
END:DAYLIGHT
BEGIN:STANDARD
TZOFFSETFROM:-0400
TZOFFSETTO:-0500
TZNAME:EST
DTSTART:20251102T060000
END:STANDARD
BEGIN:DAYLIGHT
TZOFFSETFROM:-0500
TZOFFSETTO:-0400
TZNAME:EDT
DTSTART:20260308T070000
END:DAYLIGHT
BEGIN:STANDARD
TZOFFSETFROM:-0400
TZOFFSETTO:-0500
TZNAME:EST
DTSTART:20261101T060000
END:STANDARD
BEGIN:DAYLIGHT
TZOFFSETFROM:-0500
TZOFFSETTO:-0400
TZNAME:EDT
DTSTART:20270314T070000
END:DAYLIGHT
BEGIN:STANDARD
TZOFFSETFROM:-0400
TZOFFSETTO:-0500
TZNAME:EST
DTSTART:20271107T060000
END:STANDARD
END:VTIMEZONE
BEGIN:VEVENT
DTSTART;TZID=America/New_York:20260507T180000
DTEND;TZID=America/New_York:20260507T200000
DTSTAMP:20260422T121410
CREATED:20260421T194335Z
LAST-MODIFIED:20260421T194335Z
UID:10000073-1778176800-1778184000@www.rockdaleclerk.com
SUMMARY:Property Tax Symposium May 2026
DESCRIPTION:
URL:https://www.rockdaleclerk.com/event/property-tax-symposium-may-2026/
LOCATION:Rockdale County Auditorium\, 903 Main St NW\, Conyers\, GA\, 30012\, United States
ATTACH;FMTTYPE=image/png:https://www.rockdaleclerk.com/wp-content/uploads/2026/04/A-FRAME.png
END:VEVENT
END:VCALENDAR